BEGIN:VCALENDAR
VERSION:2.0
PRODID:-//Prodigal Ministries - ECPv6.15.20//NONSGML v1.0//EN
CALSCALE:GREGORIAN
METHOD:PUBLISH
X-ORIGINAL-URL:https://prodigalky.org
X-WR-CALDESC:Events for Prodigal Ministries
REFRESH-INTERVAL;VALUE=DURATION:PT1H
X-Robots-Tag:noindex
X-PUBLISHED-TTL:PT1H
BEGIN:VTIMEZONE
TZID:America/Kentucky/Louisville
BEGIN:DAYLIGHT
TZOFFSETFROM:-0500
TZOFFSETTO:-0400
TZNAME:EDT
DTSTART:20210314T070000
END:DAYLIGHT
BEGIN:STANDARD
TZOFFSETFROM:-0400
TZOFFSETTO:-0500
TZNAME:EST
DTSTART:20211107T060000
END:STANDARD
BEGIN:DAYLIGHT
TZOFFSETFROM:-0500
TZOFFSETTO:-0400
TZNAME:EDT
DTSTART:20220313T070000
END:DAYLIGHT
BEGIN:STANDARD
TZOFFSETFROM:-0400
TZOFFSETTO:-0500
TZNAME:EST
DTSTART:20221106T060000
END:STANDARD
BEGIN:DAYLIGHT
TZOFFSETFROM:-0500
TZOFFSETTO:-0400
TZNAME:EDT
DTSTART:20230312T070000
END:DAYLIGHT
BEGIN:STANDARD
TZOFFSETFROM:-0400
TZOFFSETTO:-0500
TZNAME:EST
DTSTART:20231105T060000
END:STANDARD
END:VTIMEZONE
BEGIN:VEVENT
DTSTART;VALUE=DATE:20220915
DTEND;VALUE=DATE:20220916
DTSTAMP:20260422T121707
CREATED:20220109T021124Z
LAST-MODIFIED:20220109T022222Z
UID:2519-1663200000-1663286399@prodigalky.org
SUMMARY:Give For Good Louisville
DESCRIPTION:Thanks to your generous support Give For Good Louisville was able to raise $8.9 million for 500+ local organizations in 2021.
URL:https://prodigalky.org/event/prodigal-board-of-directors-meeting-3/
LOCATION:KY
ATTACH;FMTTYPE=image/png:https://prodigalky.org/wp-content/uploads/2020/03/GFGL-logo.png
END:VEVENT
END:VCALENDAR