BEGIN:VCALENDAR
VERSION:2.0
PRODID:-//Prodigal Ministries - ECPv6.15.20//NONSGML v1.0//EN
CALSCALE:GREGORIAN
METHOD:PUBLISH
X-WR-CALNAME:Prodigal Ministries
X-ORIGINAL-URL:https://prodigalky.org
X-WR-CALDESC:Events for Prodigal Ministries
REFRESH-INTERVAL;VALUE=DURATION:PT1H
X-Robots-Tag:noindex
X-PUBLISHED-TTL:PT1H
BEGIN:VTIMEZONE
TZID:America/Kentucky/Louisville
BEGIN:DAYLIGHT
TZOFFSETFROM:-0500
TZOFFSETTO:-0400
TZNAME:EDT
DTSTART:20210314T070000
END:DAYLIGHT
BEGIN:STANDARD
TZOFFSETFROM:-0400
TZOFFSETTO:-0500
TZNAME:EST
DTSTART:20211107T060000
END:STANDARD
BEGIN:DAYLIGHT
TZOFFSETFROM:-0500
TZOFFSETTO:-0400
TZNAME:EDT
DTSTART:20220313T070000
END:DAYLIGHT
BEGIN:STANDARD
TZOFFSETFROM:-0400
TZOFFSETTO:-0500
TZNAME:EST
DTSTART:20221106T060000
END:STANDARD
BEGIN:DAYLIGHT
TZOFFSETFROM:-0500
TZOFFSETTO:-0400
TZNAME:EDT
DTSTART:20230312T070000
END:DAYLIGHT
BEGIN:STANDARD
TZOFFSETFROM:-0400
TZOFFSETTO:-0500
TZNAME:EST
DTSTART:20231105T060000
END:STANDARD
END:VTIMEZONE
BEGIN:VEVENT
DTSTART;TZID=America/Kentucky/Louisville:20220601T110000
DTEND;TZID=America/Kentucky/Louisville:20220601T170000
DTSTAMP:20260422T150648
CREATED:20220107T184403Z
LAST-MODIFIED:20220412T164238Z
UID:2505-1654081200-1654102800@prodigalky.org
SUMMARY:Annual Prodigal Ministries Golf Outing: Title sponsor-L&N Federal Credit Union
DESCRIPTION:This annual event is held at the beautiful Harmony Landing Country Club in Goshen\, Kentucky. Teams  gather at 11:00 am for registration\, box lunch and a shotgun start at 12:30pm. To round out the day\, join us at the 19th hole for a hospitality hour\, a short presentation to hear about our ministry\, and hand out awards.GREAT GOLF FOR A GREAT CAUSE! See you on the course! \nClick Here To Register!
URL:https://prodigalky.org/event/15th-annual-robinson-s-brown-ii-memorial-golf-scramble/
LOCATION:Harmony Landing Country Club\, 13201 Reading Road\, Goshen\, KY\, 40026\, United States
ATTACH;FMTTYPE=image/jpeg:https://prodigalky.org/wp-content/uploads/2020/03/Joey-Spaulding-scaled.jpg
ORGANIZER;CN="Prodigal Ministries":MAILTO:info@prodigalky.org
END:VEVENT
END:VCALENDAR